BEGIN:VCALENDAR
VERSION:2.0
PRODID:-//Stockport Militaria - ECPv5.14.1//NONSGML v1.0//EN
CALSCALE:GREGORIAN
METHOD:PUBLISH
X-WR-CALNAME:Stockport Militaria
X-ORIGINAL-URL:https://stockportmilitaria.org
X-WR-CALDESC:Events for Stockport Militaria
BEGIN:VTIMEZONE
TZID:UTC
BEGIN:STANDARD
TZOFFSETFROM:+0000
TZOFFSETTO:+0000
TZNAME:UTC
DTSTART:20240101T000000
END:STANDARD
END:VTIMEZONE
BEGIN:VEVENT
DTSTART;TZID=UTC:20240902T200000
DTEND;TZID=UTC:20240902T200000
DTSTAMP:20260420T145524
CREATED:20240805T134214Z
LAST-MODIFIED:20240805T134214Z
UID:6801-1725307200-1725307200@stockportmilitaria.org
SUMMARY:WW1 Postcards: Propaganda\, Patriotism and Hatred.  A talk by Stuart Hall.
DESCRIPTION:Monday\, September 2nd at 8.00pm at Woodley Civic Centre\, Hyde Road\, Woodley\, Stockport.
URL:https://stockportmilitaria.org/event/ww1-postcards-propaganda-patriotism-and-hatred-a-talk-by-stuart-hall/
LOCATION:Woodley Civic Hall\, Hyde Road\, Woodley\, Stockport\, Cheshire\, SK6 1QG\, United Kingdom
END:VEVENT
END:VCALENDAR