BEGIN:VCALENDAR
VERSION:2.0
PRODID:-//Stockport Militaria - ECPv5.14.1//NONSGML v1.0//EN
CALSCALE:GREGORIAN
METHOD:PUBLISH
X-WR-CALNAME:Stockport Militaria
X-ORIGINAL-URL:https://stockportmilitaria.org
X-WR-CALDESC:Events for Stockport Militaria
BEGIN:VTIMEZONE
TZID:UTC
BEGIN:STANDARD
TZOFFSETFROM:+0000
TZOFFSETTO:+0000
TZNAME:UTC
DTSTART:20240101T000000
END:STANDARD
END:VTIMEZONE
BEGIN:VEVENT
DTSTART;TZID=UTC:20240304T193000
DTEND;TZID=UTC:20240304T220000
DTSTAMP:20260420T195216
CREATED:20240212T164506Z
LAST-MODIFIED:20240212T164506Z
UID:6793-1709580600-1709589600@stockportmilitaria.org
SUMMARY:Tony McMylor's talk - Quanah and the Parker Massacre.
DESCRIPTION:
URL:https://stockportmilitaria.org/event/tony-mcmylors-talk-quanah-and-the-parker-massacre/
LOCATION:Woodley Civic Hall\, Hyde Road\, Woodley\, Stockport\, Cheshire\, SK6 1QG\, United Kingdom
END:VEVENT
END:VCALENDAR