BEGIN:VCALENDAR
VERSION:2.0
PRODID:-//Stockport Militaria - ECPv5.14.1//NONSGML v1.0//EN
CALSCALE:GREGORIAN
METHOD:PUBLISH
X-WR-CALNAME:Stockport Militaria
X-ORIGINAL-URL:https://stockportmilitaria.org
X-WR-CALDESC:Events for Stockport Militaria
BEGIN:VTIMEZONE
TZID:UTC
BEGIN:STANDARD
TZOFFSETFROM:+0000
TZOFFSETTO:+0000
TZNAME:UTC
DTSTART:20250101T000000
END:STANDARD
END:VTIMEZONE
BEGIN:VEVENT
DTSTART;TZID=UTC:20250804T200000
DTEND;TZID=UTC:20250804T200000
DTSTAMP:20260420T114639
CREATED:20250310T160222Z
LAST-MODIFIED:20250310T192333Z
UID:6835-1754337600-1754337600@stockportmilitaria.org
SUMMARY:Stuart Hall:  The Boy Scouts during The Great War.
DESCRIPTION:
URL:https://stockportmilitaria.org/event/stuart-hall-the-boy-scouts-during-the-great-war/
LOCATION:Woodley Civic Hall\, Hyde Road\, Woodley\, Stockport\, Cheshire\, SK6 1QG\, United Kingdom
END:VEVENT
END:VCALENDAR