BEGIN:VCALENDAR
VERSION:2.0
PRODID:-//Stockport Militaria - ECPv5.14.1//NONSGML v1.0//EN
CALSCALE:GREGORIAN
METHOD:PUBLISH
X-WR-CALNAME:Stockport Militaria
X-ORIGINAL-URL:https://stockportmilitaria.org
X-WR-CALDESC:Events for Stockport Militaria
BEGIN:VTIMEZONE
TZID:UTC
BEGIN:STANDARD
TZOFFSETFROM:+0000
TZOFFSETTO:+0000
TZNAME:UTC
DTSTART:20200101T000000
END:STANDARD
END:VTIMEZONE
BEGIN:VEVENT
DTSTART;TZID=UTC:20201003T090000
DTEND;TZID=UTC:20201003T140000
DTSTAMP:20260425T142704
CREATED:20181119T201734Z
LAST-MODIFIED:20191028T211328Z
UID:6532-1601715600-1601733600@stockportmilitaria.org
SUMMARY:Stockport Arms Armour and Militaria Fair
DESCRIPTION:
URL:https://stockportmilitaria.org/event/stockport-arms-armour-and-militaria-fair-3/
END:VEVENT
END:VCALENDAR