BEGIN:VCALENDAR
VERSION:2.0
PRODID:-//Stockport Militaria - ECPv5.14.1//NONSGML v1.0//EN
CALSCALE:GREGORIAN
METHOD:PUBLISH
X-WR-CALNAME:Stockport Militaria
X-ORIGINAL-URL:https://stockportmilitaria.org
X-WR-CALDESC:Events for Stockport Militaria
BEGIN:VTIMEZONE
TZID:UTC
BEGIN:STANDARD
TZOFFSETFROM:+0000
TZOFFSETTO:+0000
TZNAME:UTC
DTSTART:20200101T000000
END:STANDARD
END:VTIMEZONE
BEGIN:VEVENT
DTSTART;TZID=UTC:20201005T200000
DTEND;TZID=UTC:20201005T220000
DTSTAMP:20260425T124119
CREATED:20191028T211652Z
LAST-MODIFIED:20191028T211652Z
UID:6610-1601928000-1601935200@stockportmilitaria.org
SUMMARY:Paul Reed\, Leger Travel's head battlefield guide - The Aftermath of WW1.
DESCRIPTION:
URL:https://stockportmilitaria.org/event/paul-reed-leger-travels-head-battlefield-guide-the-aftermath-of-ww1/
END:VEVENT
END:VCALENDAR