BEGIN:VCALENDAR
VERSION:2.0
PRODID:-//Stockport Militaria - ECPv5.14.1//NONSGML v1.0//EN
CALSCALE:GREGORIAN
METHOD:PUBLISH
X-WR-CALNAME:Stockport Militaria
X-ORIGINAL-URL:https://stockportmilitaria.org
X-WR-CALDESC:Events for Stockport Militaria
BEGIN:VTIMEZONE
TZID:UTC
BEGIN:STANDARD
TZOFFSETFROM:+0000
TZOFFSETTO:+0000
TZNAME:UTC
DTSTART:20230101T000000
END:STANDARD
END:VTIMEZONE
BEGIN:VEVENT
DTSTART;VALUE=DATE:20231002
DTEND;VALUE=DATE:20231003
DTSTAMP:20260421T041343
CREATED:20230917T130551Z
LAST-MODIFIED:20230917T130551Z
UID:6768-1696204800-1696291199@stockportmilitaria.org
SUMMARY:Martyn Lovell's talk on Netley Hospital
DESCRIPTION:
URL:https://stockportmilitaria.org/event/martyn-lovells-talk-on-netley-hospital/
LOCATION:Woodley Civic Hall\, Hyde Road\, Woodley\, Stockport\, Cheshire\, SK6 1QG\, United Kingdom
END:VEVENT
END:VCALENDAR