BEGIN:VCALENDAR
VERSION:2.0
PRODID:-//Stockport Militaria - ECPv5.14.1//NONSGML v1.0//EN
CALSCALE:GREGORIAN
METHOD:PUBLISH
X-WR-CALNAME:Stockport Militaria
X-ORIGINAL-URL:https://stockportmilitaria.org
X-WR-CALDESC:Events for Stockport Militaria
BEGIN:VTIMEZONE
TZID:UTC
BEGIN:STANDARD
TZOFFSETFROM:+0000
TZOFFSETTO:+0000
TZNAME:UTC
DTSTART:20200101T000000
END:STANDARD
END:VTIMEZONE
BEGIN:VEVENT
DTSTART;TZID=UTC:20200907T200000
DTEND;TZID=UTC:20200907T220000
DTSTAMP:20260425T155906
CREATED:20191028T211623Z
LAST-MODIFIED:20191028T212005Z
UID:6608-1599508800-1599516000@stockportmilitaria.org
SUMMARY:Lloyd Powell - Battle of Stamford Bridge\, 1066.
DESCRIPTION:
URL:https://stockportmilitaria.org/event/lloyd-powell-battle-of-stamford-bridge-1066/
END:VEVENT
END:VCALENDAR