BEGIN:VCALENDAR
VERSION:2.0
PRODID:-//Stockport Militaria - ECPv5.14.1//NONSGML v1.0//EN
CALSCALE:GREGORIAN
METHOD:PUBLISH
X-WR-CALNAME:Stockport Militaria
X-ORIGINAL-URL:https://stockportmilitaria.org
X-WR-CALDESC:Events for Stockport Militaria
BEGIN:VTIMEZONE
TZID:UTC
BEGIN:STANDARD
TZOFFSETFROM:+0000
TZOFFSETTO:+0000
TZNAME:UTC
DTSTART:20200101T000000
END:STANDARD
END:VTIMEZONE
BEGIN:VEVENT
DTSTART;TZID=UTC:20200504T200000
DTEND;TZID=UTC:20200504T220000
DTSTAMP:20260425T223532
CREATED:20191028T211506Z
LAST-MODIFIED:20191028T211506Z
UID:6604-1588622400-1588629600@stockportmilitaria.org
SUMMARY:Geoff Smith - A display of Silver Regimental Shooting Spoons.
DESCRIPTION:
URL:https://stockportmilitaria.org/event/geoff-smith-a-display-of-silver-regimental-shooting-spoons/
END:VEVENT
END:VCALENDAR