BEGIN:VCALENDAR
VERSION:2.0
PRODID:-//Stockport Militaria - ECPv5.14.1//NONSGML v1.0//EN
CALSCALE:GREGORIAN
METHOD:PUBLISH
X-WR-CALNAME:Stockport Militaria
X-ORIGINAL-URL:https://stockportmilitaria.org
X-WR-CALDESC:Events for Stockport Militaria
BEGIN:VTIMEZONE
TZID:UTC
BEGIN:STANDARD
TZOFFSETFROM:+0000
TZOFFSETTO:+0000
TZNAME:UTC
DTSTART:20230101T000000
END:STANDARD
END:VTIMEZONE
BEGIN:VEVENT
DTSTART;TZID=UTC:20230515T193000
DTEND;TZID=UTC:20230515T220000
DTSTAMP:20260423T083816
CREATED:20181029T214247Z
LAST-MODIFIED:20230410T154156Z
UID:6502-1684179000-1684188000@stockportmilitaria.org
SUMMARY:WWI Trench Raids - a talk by Stuart Hall
DESCRIPTION:
URL:https://stockportmilitaria.org/event/free-and-easy-meeting/
LOCATION:Woodley Civic Hall\, Hyde Road\, Woodley\, Stockport\, Cheshire\, SK6 1QG\, United Kingdom
END:VEVENT
END:VCALENDAR