BEGIN:VCALENDAR
VERSION:2.0
PRODID:-//Stockport Militaria - ECPv5.14.1//NONSGML v1.0//EN
CALSCALE:GREGORIAN
METHOD:PUBLISH
X-WR-CALNAME:Stockport Militaria
X-ORIGINAL-URL:https://stockportmilitaria.org
X-WR-CALDESC:Events for Stockport Militaria
BEGIN:VTIMEZONE
TZID:UTC
BEGIN:STANDARD
TZOFFSETFROM:+0000
TZOFFSETTO:+0000
TZNAME:UTC
DTSTART:20200101T000000
END:STANDARD
END:VTIMEZONE
BEGIN:VEVENT
DTSTART;TZID=UTC:20200803T200000
DTEND;TZID=UTC:20200803T220000
DTSTAMP:20260425T173836
CREATED:20181119T201812Z
LAST-MODIFIED:20191026T231229Z
UID:6534-1596484800-1596492000@stockportmilitaria.org
SUMMARY:David Sutcliffe - The Bloody Incident\, Devils Pass\, 1879
DESCRIPTION:
URL:https://stockportmilitaria.org/event/david-sutcliffe-churchills-armoured-train-incident-his-capture-and-escape/
END:VEVENT
END:VCALENDAR