BEGIN:VCALENDAR
VERSION:2.0
PRODID:-//Stockport Militaria - ECPv5.14.1//NONSGML v1.0//EN
CALSCALE:GREGORIAN
METHOD:PUBLISH
X-WR-CALNAME:Stockport Militaria
X-ORIGINAL-URL:https://stockportmilitaria.org
X-WR-CALDESC:Events for Stockport Militaria
BEGIN:VTIMEZONE
TZID:UTC
BEGIN:STANDARD
TZOFFSETFROM:+0000
TZOFFSETTO:+0000
TZNAME:UTC
DTSTART:20230101T000000
END:STANDARD
END:VTIMEZONE
BEGIN:VEVENT
DTSTART;TZID=UTC:20230703T193000
DTEND;TZID=UTC:20230703T220000
DTSTAMP:20260421T055245
CREATED:20221213T184044Z
LAST-MODIFIED:20230410T154222Z
UID:6725-1688412600-1688421600@stockportmilitaria.org
SUMMARY:The Italian Army in Africa - a talk by Gareth Henshall
DESCRIPTION:
URL:https://stockportmilitaria.org/event/club-meeting/
LOCATION:Woodley Civic Hall\, Hyde Road\, Woodley\, Stockport\, Cheshire\, SK6 1QG\, United Kingdom
END:VEVENT
END:VCALENDAR