BEGIN:VCALENDAR
VERSION:2.0
PRODID:-//Stockport Militaria - ECPv5.14.1//NONSGML v1.0//EN
CALSCALE:GREGORIAN
METHOD:PUBLISH
X-WR-CALNAME:Stockport Militaria
X-ORIGINAL-URL:https://stockportmilitaria.org
X-WR-CALDESC:Events for Stockport Militaria
BEGIN:VTIMEZONE
TZID:UTC
BEGIN:STANDARD
TZOFFSETFROM:+0000
TZOFFSETTO:+0000
TZNAME:UTC
DTSTART:20200101T000000
END:STANDARD
END:VTIMEZONE
BEGIN:VEVENT
DTSTART;TZID=UTC:20200706T200000
DTEND;TZID=UTC:20200706T220000
DTSTAMP:20260425T205124
CREATED:20191028T211558Z
LAST-MODIFIED:20191028T211558Z
UID:6606-1594065600-1594072800@stockportmilitaria.org
SUMMARY:Christopher Hill - More Medals from the Dark Continent.
DESCRIPTION:
URL:https://stockportmilitaria.org/event/christopher-hill-more-medals-from-the-dark-continent/
END:VEVENT
END:VCALENDAR