BEGIN:VCALENDAR
VERSION:2.0
PRODID:-//Stockport Militaria - ECPv5.14.1//NONSGML v1.0//EN
CALSCALE:GREGORIAN
METHOD:PUBLISH
X-WR-CALNAME:Stockport Militaria
X-ORIGINAL-URL:https://stockportmilitaria.org
X-WR-CALDESC:Events for Stockport Militaria
BEGIN:VTIMEZONE
TZID:UTC
BEGIN:STANDARD
TZOFFSETFROM:+0000
TZOFFSETTO:+0000
TZNAME:UTC
DTSTART:20240101T000000
END:STANDARD
END:VTIMEZONE
BEGIN:VEVENT
DTSTART;TZID=UTC:20241005T090000
DTEND;TZID=UTC:20241005T140000
DTSTAMP:20260420T133015
CREATED:20230917T131707Z
LAST-MODIFIED:20240701T203543Z
UID:6782-1728118800-1728136800@stockportmilitaria.org
SUMMARY:Antique Arms\, Armour\, Medals and Militaria Fair
DESCRIPTION:Antique Arms\, Armour\, Medals and Militaria Fair \nStockport Masonic Guildhall\, 169-171 Wellington Road South\, SK1 3UA. \nAdmission £3 (cash). Accompanied under 18’s free.
URL:https://stockportmilitaria.org/event/antique-arms-armour-medals-and-militaria-fair-4/
LOCATION:Arms Fair – The Stockport Masonic Guildhall\, 169-171 Wellington Road South\, Stockport\, Cheshire\, SK1 3UA\, United Kingdom
END:VEVENT
END:VCALENDAR