BEGIN:VCALENDAR
VERSION:2.0
PRODID:-//Stockport Militaria - ECPv5.14.1//NONSGML v1.0//EN
CALSCALE:GREGORIAN
METHOD:PUBLISH
X-WR-CALNAME:Stockport Militaria
X-ORIGINAL-URL:https://stockportmilitaria.org
X-WR-CALDESC:Events for Stockport Militaria
BEGIN:VTIMEZONE
TZID:UTC
BEGIN:STANDARD
TZOFFSETFROM:+0000
TZOFFSETTO:+0000
TZNAME:UTC
DTSTART:20200101T000000
END:STANDARD
END:VTIMEZONE
BEGIN:VEVENT
DTSTART;TZID=UTC:20201016T200000
DTEND;TZID=UTC:20201016T220000
DTSTAMP:20260425T103231
CREATED:20191028T211837Z
LAST-MODIFIED:20191028T211837Z
UID:6612-1602878400-1602885600@stockportmilitaria.org
SUMMARY:Annual Dinner.
DESCRIPTION:
URL:https://stockportmilitaria.org/event/annual-dinner/
END:VEVENT
END:VCALENDAR