BEGIN:VCALENDAR
VERSION:2.0
PRODID:-//Stockport Militaria - ECPv5.14.1//NONSGML v1.0//EN
CALSCALE:GREGORIAN
METHOD:PUBLISH
X-WR-CALNAME:Stockport Militaria
X-ORIGINAL-URL:https://stockportmilitaria.org
X-WR-CALDESC:Events for Stockport Militaria
BEGIN:VTIMEZONE
TZID:UTC
BEGIN:STANDARD
TZOFFSETFROM:+0000
TZOFFSETTO:+0000
TZNAME:UTC
DTSTART:20200101T000000
END:STANDARD
END:VTIMEZONE
BEGIN:VEVENT
DTSTART;TZID=UTC:20200406T200000
DTEND;TZID=UTC:20200406T220000
DTSTAMP:20260426T000500
CREATED:20181119T201110Z
LAST-MODIFIED:20191026T231422Z
UID:6517-1586203200-1586210400@stockportmilitaria.org
SUMMARY:AGM.  David Walmsley - Napoleon and Waterloo.
DESCRIPTION:
URL:https://stockportmilitaria.org/event/a-g-m-free-and-easy-meeting/
END:VEVENT
END:VCALENDAR